BEGIN:VCALENDAR
VERSION:2.0
PRODID:-//ΚΕΠΑ Δ. Βέροιας - ECPv6.15.20//NONSGML v1.0//EN
CALSCALE:GREGORIAN
METHOD:PUBLISH
X-WR-CALNAME:ΚΕΠΑ Δ. Βέροιας
X-ORIGINAL-URL:https://veriaculture.gr
X-WR-CALDESC:Events for ΚΕΠΑ Δ. Βέροιας
REFRESH-INTERVAL;VALUE=DURATION:PT1H
X-Robots-Tag:noindex
X-PUBLISHED-TTL:PT1H
BEGIN:VTIMEZONE
TZID:Europe/Athens
BEGIN:DAYLIGHT
TZOFFSETFROM:+0200
TZOFFSETTO:+0300
TZNAME:EEST
DTSTART:20250330T010000
END:DAYLIGHT
BEGIN:STANDARD
TZOFFSETFROM:+0300
TZOFFSETTO:+0200
TZNAME:EET
DTSTART:20251026T010000
END:STANDARD
BEGIN:DAYLIGHT
TZOFFSETFROM:+0200
TZOFFSETTO:+0300
TZNAME:EEST
DTSTART:20260329T010000
END:DAYLIGHT
BEGIN:STANDARD
TZOFFSETFROM:+0300
TZOFFSETTO:+0200
TZNAME:EET
DTSTART:20261025T010000
END:STANDARD
BEGIN:DAYLIGHT
TZOFFSETFROM:+0200
TZOFFSETTO:+0300
TZNAME:EEST
DTSTART:20270328T010000
END:DAYLIGHT
BEGIN:STANDARD
TZOFFSETFROM:+0300
TZOFFSETTO:+0200
TZNAME:EET
DTSTART:20271031T010000
END:STANDARD
END:VTIMEZONE
BEGIN:VEVENT
DTSTART;TZID=Europe/Athens:20260420T120000
DTEND;TZID=Europe/Athens:20260424T170000
DTSTAMP:20260421T141839
CREATED:20260406T070055Z
LAST-MODIFIED:20260406T070055Z
UID:8735-1776686400-1777050000@veriaculture.gr
SUMMARY:ΕΚΘΕΣΗ ΕΙΚΑΣΤΙΚΩΝ - ΔΗΠΕΘΕ Βέροιας
DESCRIPTION:ΔΗΠΕΘΕ Βέροιας \nΕΚΘΕΣΗ ΕΙΚΑΣΤΙΚΩΝ\nΦουαγιέ Αντωνιάδειας Στέγη Γραμμάτων & Τεχνών
URL:https://veriaculture.gr/event/%ce%b5%ce%ba%ce%b8%ce%b5%cf%83%ce%b7-%ce%b5%ce%b9%ce%ba%ce%b1%cf%83%cf%84%ce%b9%ce%ba%cf%89%ce%bd-%ce%b4%ce%b7%cf%80%ce%b5%ce%b8%ce%b5-%ce%b2%ce%ad%cf%81%ce%bf%ce%b9%ce%b1%cf%82/
LOCATION:Φουαγιέ Αντωνιάδειο Στέγη Γραμμάτων και Τεχνών\, Αντωνίου Αντωνιάδη 19\, ΒΕΡΟΙΑ\, ΗΜΑΘΙΑΣ\, 59132\, Greece
END:VEVENT
BEGIN:VEVENT
DTSTART;TZID=Europe/Athens:20260421T080000
DTEND;TZID=Europe/Athens:20260421T150000
DTSTAMP:20260421T141840
CREATED:20260406T070306Z
LAST-MODIFIED:20260406T070342Z
UID:8745-1776758400-1776783600@veriaculture.gr
SUMMARY:ΘΕΑΤΡΙΚΗ ΑΝΟΙΞΗ ΕΦΗΒΩΝ - ΔΗΠΕΘΕ Βέροιας - Δήμος Βέροιας – Αντιδημαρχία Παιδείας -Διευθύνσεις Δευτεροβάθμιας Εκπαίδευσης Ημαθίας\, Πέλλας\, Πιερίας -Πανελλήνιο Δίκτυο για το Θέατρο στην Εκπαίδευση / Γραφείο Βορείου Ελλάδος
DESCRIPTION:ΔΗΠΕΘΕ Βέροιας – Δήμος Βέροιας – Αντιδημαρχία Παιδείας -Διευθύνσεις Δευτεροβάθμιας Εκπαίδευσης Ημαθίας\, Πέλλας\, Πιερίας -Πανελλήνιο Δίκτυο για το Θέατρο στην Εκπαίδευση / Γραφείο Βορείου Ελλάδος\nΘΕΑΤΡΙΚΗ ΑΝΟΙΞΗ ΕΦΗΒΩΝ\nώρες 8.00μ.μ. – 3.00μ.μ./ Αντωνιάδειος Στέγη Γραμμάτων & Τεχνών- σκηνή Οδυσσέα Γωνιάδη
URL:https://veriaculture.gr/event/%ce%b8%ce%b5%ce%b1%cf%84%cf%81%ce%b9%ce%ba%ce%b7-%ce%b1%ce%bd%ce%bf%ce%b9%ce%be%ce%b7-%ce%b5%cf%86%ce%b7%ce%b2%cf%89%ce%bd-%ce%b4%ce%b7%cf%80%ce%b5%ce%b8%ce%b5-%ce%b2%ce%ad%cf%81%ce%bf%ce%b9%ce%b1-2/
LOCATION:Αντωνιάδειος Στέγη Γραμμάτων και Τεχνών\, Αντωνίου Αντωνιάδη 19\, Βέροια\, ΗΜΑΘΙΑΣ\, 59132\, Greece
END:VEVENT
BEGIN:VEVENT
DTSTART;TZID=Europe/Athens:20260421T110000
DTEND;TZID=Europe/Athens:20260421T120000
DTSTAMP:20260421T141840
CREATED:20260406T070706Z
LAST-MODIFIED:20260406T070706Z
UID:8755-1776769200-1776772800@veriaculture.gr
SUMMARY:Ώρα για Βουτιά στις Σελίδες! - ΔΗΜΟΤΙΚΗ ΒΙΒΛΙΟΘΗΚΗ - ΚΕΝΤΡΟ ΜΟΥΣΙΚΗΣ ΜΑΚΡΟΧΩΡΙΟΥ
DESCRIPTION:ΚΕΠΑ Δ.ΒΕΡΟΙΑΣ -ΔΗΜΟΤΙΚΗ ΒΙΒΛΙΟΘΗΚΗ – ΚΕΝΤΡΟ ΜΟΥΣΙΚΗΣ ΜΑΚΡΟΧΩΡΙΟΥ \n«Ώρα για Βουτιά στις Σελίδες!»\nΗ Βιβλιοθήκη Μακροχωρίου δέχεται τους μικρούς μαθητές σε μια συνάντηση με Συγγραφείς Παιδικών Βιβλίων».\nΕκπαιδευτική επίσκεψη του 3ου Νηπιαγωγείου Μακροχωρίου. Καλεσμένη η συγγραφέας Ιγνατιάδου Όλγα.\nώρα 11:00π.μ.
URL:https://veriaculture.gr/event/%cf%8e%cf%81%ce%b1-%ce%b3%ce%b9%ce%b1-%ce%b2%ce%bf%cf%85%cf%84%ce%b9%ce%ac-%cf%83%cf%84%ce%b9%cf%82-%cf%83%ce%b5%ce%bb%ce%af%ce%b4%ce%b5%cf%82-%ce%b4%ce%b7%ce%bc%ce%bf%cf%84%ce%b9%ce%ba%ce%b7-2/
LOCATION:Δημοτική Βιβλιοθήκη Μακροχωρίου – Κέντρο Μουσικής\, Αριστοτέλους 100\, Μακροχώρι\, ΗΜΑΘΙΑΣ\, 59033\, Greece
END:VEVENT
BEGIN:VEVENT
DTSTART;TZID=Europe/Athens:20260421T190000
DTEND;TZID=Europe/Athens:20260421T200000
DTSTAMP:20260421T141840
CREATED:20260406T070756Z
LAST-MODIFIED:20260406T070756Z
UID:8756-1776798000-1776801600@veriaculture.gr
SUMMARY:Mονοπάτια της Άβρας Αυδή - ΔΗΠΕΘΕ ΒΕΡΟΙΑΣ - Παρουσίαση Βιβλίου
DESCRIPTION:ΔΗΠΕΘΕ ΒΕΡΟΙΑΣ – Παρουσίαση Βιβλίου \nMονοπάτια της Άβρας Αυδή\nείσοδος ελεύθερη\nώρα 7.00μ.μ. / φουαγιέ Αντωνιάδειος Στέγη Γραμμάτων & Τεχνών
URL:https://veriaculture.gr/event/m%ce%bf%ce%bd%ce%bf%cf%80%ce%ac%cf%84%ce%b9%ce%b1-%cf%84%ce%b7%cf%82-%ce%ac%ce%b2%cf%81%ce%b1%cf%82-%ce%b1%cf%85%ce%b4%ce%ae-%ce%b4%ce%b7%cf%80%ce%b5%ce%b8%ce%b5-%ce%b2%ce%b5%cf%81%ce%bf%ce%b9%ce%b1/
LOCATION:Αντωνιάδειος Στέγη Γραμμάτων και Τεχνών\, Αντωνίου Αντωνιάδη 19\, Βέροια\, ΗΜΑΘΙΑΣ\, 59132\, Greece
END:VEVENT
BEGIN:VEVENT
DTSTART;TZID=Europe/Athens:20260422T080000
DTEND;TZID=Europe/Athens:20260422T150000
DTSTAMP:20260421T141840
CREATED:20260406T070317Z
LAST-MODIFIED:20260406T070317Z
UID:8746-1776844800-1776870000@veriaculture.gr
SUMMARY:ΘΕΑΤΡΙΚΗ ΑΝΟΙΞΗ ΕΦΗΒΩΝ - ΔΗΠΕΘΕ Βέροιας - Δήμος Βέροιας – Αντιδημαρχία Παιδείας -Διευθύνσεις Δευτεροβάθμιας Εκπαίδευσης Ημαθίας\, Πέλλας\, Πιερίας -Πανελλήνιο Δίκτυο για το Θέατρο στην Εκπαίδευση / Γραφείο Βορείου Ελλάδος
DESCRIPTION:ΔΗΠΕΘΕ Βέροιας – Δήμος Βέροιας – Αντιδημαρχία Παιδείας -Διευθύνσεις Δευτεροβάθμιας Εκπαίδευσης Ημαθίας\, Πέλλας\, Πιερίας -Πανελλήνιο Δίκτυο για το Θέατρο στην Εκπαίδευση / Γραφείο Βορείου Ελλάδος\nΘΕΑΤΡΙΚΗ ΑΝΟΙΞΗ ΕΦΗΒΩΝ\nώρες 8.00μ.μ. – 3.00μ.μ./ Αντωνιάδειος Στέγη Γραμμάτων & Τεχνών- σκηνή Οδυσσέα Γωνιάδη
URL:https://veriaculture.gr/event/%ce%b8%ce%b5%ce%b1%cf%84%cf%81%ce%b9%ce%ba%ce%b7-%ce%b1%ce%bd%ce%bf%ce%b9%ce%be%ce%b7-%ce%b5%cf%86%ce%b7%ce%b2%cf%89%ce%bd-%ce%b4%ce%b7%cf%80%ce%b5%ce%b8%ce%b5-%ce%b2%ce%ad%cf%81%ce%bf%ce%b9%ce%b1-3/
LOCATION:Αντωνιάδειος Στέγη Γραμμάτων και Τεχνών\, Αντωνίου Αντωνιάδη 19\, Βέροια\, ΗΜΑΘΙΑΣ\, 59132\, Greece
END:VEVENT
BEGIN:VEVENT
DTSTART;TZID=Europe/Athens:20260422T103000
DTEND;TZID=Europe/Athens:20260422T113000
DTSTAMP:20260421T141840
CREATED:20260406T073140Z
LAST-MODIFIED:20260406T073140Z
UID:8757-1776853800-1776857400@veriaculture.gr
SUMMARY:Παρουσίαση βιβλίου -Οι λέξεις που δεν χόρτασα του Διαμαντόπουλου Διονύση\, Συγγραφέα.
DESCRIPTION:ΚΕΠΑ Δ.ΒΕΡΟΙΑΣ -ΔΗΜΟΤΙΚΗ ΒΙΒΛΙΟΘΗΚΗ – ΚΕΝΤΡΟ ΜΟΥΣΙΚΗΣ ΜΑΚΡΟΧΩΡΙΟΥ \nΠαρουσίαση βιβλίου\n«Οι λέξεις που δεν χόρτασα» του Διαμαντόπουλου Διονύση\, Συγγραφέα.\nΈνα ιστορικό μυθιστόρημα βαθιά ανθρώπινο και συγκλονιστικό.\nΤην παρουσίαση προλογίζει και συντονίζει ο Δρ. Γώγος Χρήστος\, φυσικοθεραπευτής ΚΕΦΙΑΠ Ημαθίας\, Διδάκτωρ ΑΠΘ.\nώρα 10:30π.μ./ είσοδος ελεύθερη
URL:https://veriaculture.gr/event/%cf%80%ce%b1%cf%81%ce%bf%cf%85%cf%83%ce%af%ce%b1%cf%83%ce%b7-%ce%b2%ce%b9%ce%b2%ce%bb%ce%af%ce%bf%cf%85-%ce%bf%ce%b9-%ce%bb%ce%ad%ce%be%ce%b5%ce%b9%cf%82-%cf%80%ce%bf%cf%85-%ce%b4%ce%b5%ce%bd-%cf%87/
LOCATION:Δημοτική Βιβλιοθήκη Μακροχωρίου – Κέντρο Μουσικής\, Αριστοτέλους 100\, Μακροχώρι\, ΗΜΑΘΙΑΣ\, 59033\, Greece
END:VEVENT
BEGIN:VEVENT
DTSTART;TZID=Europe/Athens:20260422T200000
DTEND;TZID=Europe/Athens:20260422T210000
DTSTAMP:20260421T141840
CREATED:20260401T062422Z
LAST-MODIFIED:20260401T062422Z
UID:8686-1776888000-1776891600@veriaculture.gr
SUMMARY:Μουσική βραδιά του ΠΡΟΜΗΘΕΑ με Έλληνες και ξένους συνθέτες
DESCRIPTION:Μουσική βραδιά του «ΠΡΟΜΗΘΕΑ» με Έλληνες και ξένους συνθέτες
URL:https://veriaculture.gr/event/%ce%bc%ce%bf%cf%85%cf%83%ce%b9%ce%ba%ce%ae-%ce%b2%cf%81%ce%b1%ce%b4%ce%b9%ce%ac-%cf%84%ce%bf%cf%85-%cf%80%cf%81%ce%bf%ce%bc%ce%b7%ce%b8%ce%b5%ce%b1-%ce%bc%ce%b5-%ce%ad%ce%bb%ce%bb%ce%b7%ce%bd%ce%b5/
LOCATION:Αντωνιάδειος Στέγη Γραμμάτων και Τεχνών\, Αντωνίου Αντωνιάδη 19\, Βέροια\, ΗΜΑΘΙΑΣ\, 59132\, Greece
END:VEVENT
BEGIN:VEVENT
DTSTART;TZID=Europe/Athens:20260423T080000
DTEND;TZID=Europe/Athens:20260423T150000
DTSTAMP:20260421T141840
CREATED:20260406T070328Z
LAST-MODIFIED:20260406T070328Z
UID:8747-1776931200-1776956400@veriaculture.gr
SUMMARY:ΘΕΑΤΡΙΚΗ ΑΝΟΙΞΗ ΕΦΗΒΩΝ - ΔΗΠΕΘΕ Βέροιας - Δήμος Βέροιας – Αντιδημαρχία Παιδείας -Διευθύνσεις Δευτεροβάθμιας Εκπαίδευσης Ημαθίας\, Πέλλας\, Πιερίας -Πανελλήνιο Δίκτυο για το Θέατρο στην Εκπαίδευση / Γραφείο Βορείου Ελλάδος
DESCRIPTION:ΔΗΠΕΘΕ Βέροιας – Δήμος Βέροιας – Αντιδημαρχία Παιδείας -Διευθύνσεις Δευτεροβάθμιας Εκπαίδευσης Ημαθίας\, Πέλλας\, Πιερίας -Πανελλήνιο Δίκτυο για το Θέατρο στην Εκπαίδευση / Γραφείο Βορείου Ελλάδος\nΘΕΑΤΡΙΚΗ ΑΝΟΙΞΗ ΕΦΗΒΩΝ\nώρες 8.00μ.μ. – 3.00μ.μ./ Αντωνιάδειος Στέγη Γραμμάτων & Τεχνών- σκηνή Οδυσσέα Γωνιάδη
URL:https://veriaculture.gr/event/%ce%b8%ce%b5%ce%b1%cf%84%cf%81%ce%b9%ce%ba%ce%b7-%ce%b1%ce%bd%ce%bf%ce%b9%ce%be%ce%b7-%ce%b5%cf%86%ce%b7%ce%b2%cf%89%ce%bd-%ce%b4%ce%b7%cf%80%ce%b5%ce%b8%ce%b5-%ce%b2%ce%ad%cf%81%ce%bf%ce%b9%ce%b1-4/
LOCATION:Αντωνιάδειος Στέγη Γραμμάτων και Τεχνών\, Αντωνίου Αντωνιάδη 19\, Βέροια\, ΗΜΑΘΙΑΣ\, 59132\, Greece
END:VEVENT
BEGIN:VEVENT
DTSTART;TZID=Europe/Athens:20260424T080000
DTEND;TZID=Europe/Athens:20260424T150000
DTSTAMP:20260421T141840
CREATED:20260406T070410Z
LAST-MODIFIED:20260406T070410Z
UID:8748-1777017600-1777042800@veriaculture.gr
SUMMARY:ΘΕΑΤΡΙΚΗ ΑΝΟΙΞΗ ΕΦΗΒΩΝ - ΔΗΠΕΘΕ Βέροιας - Δήμος Βέροιας – Αντιδημαρχία Παιδείας -Διευθύνσεις Δευτεροβάθμιας Εκπαίδευσης Ημαθίας\, Πέλλας\, Πιερίας -Πανελλήνιο Δίκτυο για το Θέατρο στην Εκπαίδευση / Γραφείο Βορείου Ελλάδος
DESCRIPTION:ΔΗΠΕΘΕ Βέροιας – Δήμος Βέροιας – Αντιδημαρχία Παιδείας -Διευθύνσεις Δευτεροβάθμιας Εκπαίδευσης Ημαθίας\, Πέλλας\, Πιερίας -Πανελλήνιο Δίκτυο για το Θέατρο στην Εκπαίδευση / Γραφείο Βορείου Ελλάδος\nΘΕΑΤΡΙΚΗ ΑΝΟΙΞΗ ΕΦΗΒΩΝ\nώρες 8.00μ.μ. – 3.00μ.μ./ Αντωνιάδειος Στέγη Γραμμάτων & Τεχνών- σκηνή Οδυσσέα Γωνιάδη
URL:https://veriaculture.gr/event/%ce%b8%ce%b5%ce%b1%cf%84%cf%81%ce%b9%ce%ba%ce%b7-%ce%b1%ce%bd%ce%bf%ce%b9%ce%be%ce%b7-%ce%b5%cf%86%ce%b7%ce%b2%cf%89%ce%bd-%ce%b4%ce%b7%cf%80%ce%b5%ce%b8%ce%b5-%ce%b2%ce%ad%cf%81%ce%bf%ce%b9%ce%b1-5/
LOCATION:Αντωνιάδειος Στέγη Γραμμάτων και Τεχνών\, Αντωνίου Αντωνιάδη 19\, Βέροια\, ΗΜΑΘΙΑΣ\, 59132\, Greece
END:VEVENT
BEGIN:VEVENT
DTSTART;TZID=Europe/Athens:20260424T190000
DTEND;TZID=Europe/Athens:20260424T203000
DTSTAMP:20260421T141840
CREATED:20260406T073239Z
LAST-MODIFIED:20260406T073239Z
UID:8758-1777057200-1777062600@veriaculture.gr
SUMMARY:Προπτυχιακό ρεσιτάλ βιολιού της Σταματίνας Φώτη - ΤΜΗΜΑ ΒΙΟΛΙΟΥ – ΤΑΞΗ ΓΙΑΝΝΗ ΒΛΑΧΟΥ
DESCRIPTION:ΚΕΠΑ Δ. ΒΕΡΟΙΑΣ – ΔΗΜΟΤΙΚΟ ΩΔΕΙΟ – ΤΜΗΜΑ ΒΙΟΛΙΟΥ – ΤΑΞΗ ΓΙΑΝΝΗ ΒΛΑΧΟΥ\nΠροπτυχιακό ρεσιτάλ βιολιού της Σταματίνας Φώτη\nείσοδος ελεύθερη\nώρα 7.00μ.μ. / Αντωνιάδειος Στέγη Γραμμάτων & Τεχνών-σκηνή Οδυσσέα Γωνιάδη
URL:https://veriaculture.gr/event/%cf%80%cf%81%ce%bf%cf%80%cf%84%cf%85%cf%87%ce%b9%ce%b1%ce%ba%cf%8c-%cf%81%ce%b5%cf%83%ce%b9%cf%84%ce%ac%ce%bb-%ce%b2%ce%b9%ce%bf%ce%bb%ce%b9%ce%bf%cf%8d-%cf%84%ce%b7%cf%82-%cf%83%cf%84%ce%b1%ce%bc/
LOCATION:Αντωνιάδειος Στέγη Γραμμάτων και Τεχνών\, Αντωνίου Αντωνιάδη 19\, Βέροια\, ΗΜΑΘΙΑΣ\, 59132\, Greece
END:VEVENT
BEGIN:VEVENT
DTSTART;TZID=Europe/Athens:20260425T110000
DTEND;TZID=Europe/Athens:20260425T120000
DTSTAMP:20260421T141840
CREATED:20260406T073337Z
LAST-MODIFIED:20260406T073643Z
UID:8764-1777114800-1777118400@veriaculture.gr
SUMMARY:Παρουσίαση βιβλίου - Το κάδρο της οικογένειας - ΔΗΜΟΤΙΚΗ ΒΙΒΛΙΟΘΗΚΗ - ΚΕΝΤΡΟ ΜΟΥΣΙΚΗΣ ΜΑΚΡΟΧΩΡΙΟΥ
DESCRIPTION:ΚΕΠΑ Δ.ΒΕΡΟΙΑΣ -ΔΗΜΟΤΙΚΗ ΒΙΒΛΙΟΘΗΚΗ – ΚΕΝΤΡΟ ΜΟΥΣΙΚΗΣ ΜΑΚΡΟΧΩΡΙΟΥ \nΠαρουσίαση βιβλίου – «Το κάδρο της οικογένειας»\nΥπεύθυνη δράσης: Χρηστάκη Τροχοπούλου Αννέζα\, Συγγραφέας – δασκάλα ειδικής αγωγής\, με εξειδίκευση στην εκπαίδευση κωφών/βαρήκοων παιδιών.\nΗ δράση απευθύνεται σε παιδιά νηπιαγωγείου -δημοτικού.\nώρα 11:00π.μ./ είσοδος ελεύθερη
URL:https://veriaculture.gr/event/%cf%80%ce%b1%cf%81%ce%bf%cf%85%cf%83%ce%af%ce%b1%cf%83%ce%b7-%ce%b2%ce%b9%ce%b2%ce%bb%ce%af%ce%bf%cf%85-%cf%84%ce%bf-%ce%ba%ce%ac%ce%b4%cf%81%ce%bf-%cf%84%ce%b7%cf%82-%ce%bf%ce%b9%ce%ba%ce%bf%ce%b3/
LOCATION:Δημοτική Βιβλιοθήκη Μακροχωρίου – Κέντρο Μουσικής\, Αριστοτέλους 100\, Μακροχώρι\, ΗΜΑΘΙΑΣ\, 59033\, Greece
END:VEVENT
BEGIN:VEVENT
DTSTART;TZID=Europe/Athens:20260425T110000
DTEND;TZID=Europe/Athens:20260425T150000
DTSTAMP:20260421T141840
CREATED:20260406T073442Z
LAST-MODIFIED:20260406T073525Z
UID:8766-1777114800-1777129200@veriaculture.gr
SUMMARY:ΛΥΚΕΙΟ ΕΛΛΗΝΙΔΩΝ - Παιδικό Φεστιβάλ
DESCRIPTION:ΛΥΚΕΙΟ ΕΛΛΗΝΙΔΩΝ \nΠαιδικό Φεστιβάλ\nείσοδος ελεύθερη\nώρες 11π.μ.- 3.00μ.μ./ Χώρος Τεχνών – Θάνος Μικρούτσικος
URL:https://veriaculture.gr/event/%ce%bb%cf%85%ce%ba%ce%b5%ce%b9%ce%bf-%ce%b5%ce%bb%ce%bb%ce%b7%ce%bd%ce%b9%ce%b4%cf%89%ce%bd-%cf%80%ce%b1%ce%b9%ce%b4%ce%b9%ce%ba%cf%8c-%cf%86%ce%b5%cf%83%cf%84%ce%b9%ce%b2%ce%ac%ce%bb/
LOCATION:Χώρος Τεχνών – Θάνος Μικρούτσικος\, Μπιζανίου και Παύλου Μελά Γωνία\, Βέροια\, Ημαθίας\, 59132\, Greece
END:VEVENT
BEGIN:VEVENT
DTSTART;TZID=Europe/Athens:20260425T123000
DTEND;TZID=Europe/Athens:20260425T133000
DTSTAMP:20260421T141840
CREATED:20260406T073410Z
LAST-MODIFIED:20260406T073623Z
UID:8765-1777120200-1777123800@veriaculture.gr
SUMMARY:Ρομποπαιχνίδια στην Βιβλιοθήκη - ΔΗΜΟΤΙΚΗ ΒΙΒΛΙΟΘΗΚΗ - ΚΕΝΤΡΟ ΜΟΥΣΙΚΗΣ ΜΑΚΡΟΧΩΡΙΟΥ
DESCRIPTION:ΚΕΠΑ Δ.ΒΕΡΟΙΑΣ -ΔΗΜΟΤΙΚΗ ΒΙΒΛΙΟΘΗΚΗ – ΚΕΝΤΡΟ ΜΟΥΣΙΚΗΣ ΜΑΚΡΟΧΩΡΙΟΥ\n«Ρομποπαιχνίδια στην Βιβλιοθήκη». Για παιδιά δημοτικού.\nΥπεύθυνος δράσης: Νικόλαος Θαλαλαίος\, Πληροφορικός.\nώρα 12.30μ.μ./είσοδος ελεύθερη
URL:https://veriaculture.gr/event/%cf%81%ce%bf%ce%bc%cf%80%ce%bf%cf%80%ce%b1%ce%b9%cf%87%ce%bd%ce%af%ce%b4%ce%b9%ce%b1-%cf%83%cf%84%ce%b7%ce%bd-%ce%b2%ce%b9%ce%b2%ce%bb%ce%b9%ce%bf%ce%b8%ce%ae%ce%ba%ce%b7-%ce%b4%ce%b7%ce%bc%ce%bf-2/
LOCATION:Δημοτική Βιβλιοθήκη Μακροχωρίου – Κέντρο Μουσικής\, Αριστοτέλους 100\, Μακροχώρι\, ΗΜΑΘΙΑΣ\, 59033\, Greece
END:VEVENT
BEGIN:VEVENT
DTSTART;TZID=Europe/Athens:20260426T110000
DTEND;TZID=Europe/Athens:20260426T150000
DTSTAMP:20260421T141840
CREATED:20260406T073544Z
LAST-MODIFIED:20260406T073544Z
UID:8767-1777201200-1777215600@veriaculture.gr
SUMMARY:ΛΥΚΕΙΟ ΕΛΛΗΝΙΔΩΝ - Παιδικό Φεστιβάλ
DESCRIPTION:ΛΥΚΕΙΟ ΕΛΛΗΝΙΔΩΝ \nΠαιδικό Φεστιβάλ\nείσοδος ελεύθερη\nώρες 11π.μ.- 3.00μ.μ./ Χώρος Τεχνών – Θάνος Μικρούτσικος
URL:https://veriaculture.gr/event/%ce%bb%cf%85%ce%ba%ce%b5%ce%b9%ce%bf-%ce%b5%ce%bb%ce%bb%ce%b7%ce%bd%ce%b9%ce%b4%cf%89%ce%bd-%cf%80%ce%b1%ce%b9%ce%b4%ce%b9%ce%ba%cf%8c-%cf%86%ce%b5%cf%83%cf%84%ce%b9%ce%b2%ce%ac%ce%bb-2/
LOCATION:Χώρος Τεχνών – Θάνος Μικρούτσικος\, Μπιζανίου και Παύλου Μελά Γωνία\, Βέροια\, Ημαθίας\, 59132\, Greece
END:VEVENT
BEGIN:VEVENT
DTSTART;TZID=Europe/Athens:20260428T190000
DTEND;TZID=Europe/Athens:20260428T203000
DTSTAMP:20260421T141840
CREATED:20260406T073806Z
LAST-MODIFIED:20260406T073806Z
UID:8768-1777402800-1777408200@veriaculture.gr
SUMMARY:4ο Γυμνάσιο Βέροιας - Συναυλία χορωδίας του σχολείου
DESCRIPTION:4ο Γυμνάσιο Βέροιας\nΣυναυλία χορωδίας του σχολείου\nείσοδος 3€\nώρα 7.00μ.μ. / Αντωνιάδειος Στέγη Γραμμάτων & Τεχνών -σκηνή Οδυσσέα Γωνιάδη
URL:https://veriaculture.gr/event/4%ce%bf-%ce%b3%cf%85%ce%bc%ce%bd%ce%ac%cf%83%ce%b9%ce%bf-%ce%b2%ce%ad%cf%81%ce%bf%ce%b9%ce%b1%cf%82-%cf%83%cf%85%ce%bd%ce%b1%cf%85%ce%bb%ce%af%ce%b1-%cf%87%ce%bf%cf%81%cf%89%ce%b4%ce%af%ce%b1%cf%82/
LOCATION:Αντωνιάδειος Στέγη Γραμμάτων και Τεχνών\, Αντωνίου Αντωνιάδη 19\, Βέροια\, ΗΜΑΘΙΑΣ\, 59132\, Greece
END:VEVENT
BEGIN:VEVENT
DTSTART;TZID=Europe/Athens:20260429T103000
DTEND;TZID=Europe/Athens:20260429T113000
DTSTAMP:20260421T141840
CREATED:20260406T073928Z
LAST-MODIFIED:20260406T073928Z
UID:8774-1777458600-1777462200@veriaculture.gr
SUMMARY:Φυσική δραστηριότητα και ποιότητα ζωής στην τρίτη ηλικία: από τη φροντίδα στην ενδυνάμωση - ΔΗΜΟΤΙΚΗ ΒΙΒΛΙΟΘΗΚΗ - ΚΕΝΤΡΟ ΜΟΥΣΙΚΗΣ ΜΑΚΡΟΧΩΡΙΟΥ
DESCRIPTION:ΚΕΠΑ Δ.ΒΕΡΟΙΑΣ -ΔΗΜΟΤΙΚΗ ΒΙΒΛΙΟΘΗΚΗ – ΚΕΝΤΡΟ ΜΟΥΣΙΚΗΣ ΜΑΚΡΟΧΩΡΙΟΥ \n«Φυσική δραστηριότητα και ποιότητα ζωής στην τρίτη ηλικία: από τη φροντίδα στην ενδυνάμωση».\nΥπεύθυνοι δράσης: Δρ. Χρήστος Γώγος\, Φυσικοθεραπευτής ΚΕΦΙΑΠ Ημαθίας\, Διδάκτωρ ΑΠΘ και Παρτσιοπούλου Παρασκευή\, MSc Νοσηλεύτρια-Εκπαιδευτικός\, ΣΑΕΚ Νοσηλευτικής Γ.Ν.Βέροιας\nώρα 10:30π.μ./ είσοδος ελεύθερη
URL:https://veriaculture.gr/event/%cf%86%cf%85%cf%83%ce%b9%ce%ba%ce%ae-%ce%b4%cf%81%ce%b1%cf%83%cf%84%ce%b7%cf%81%ce%b9%cf%8c%cf%84%ce%b7%cf%84%ce%b1-%ce%ba%ce%b1%ce%b9-%cf%80%ce%bf%ce%b9%cf%8c%cf%84%ce%b7%cf%84%ce%b1-%ce%b6%cf%89/
LOCATION:Δημοτική Βιβλιοθήκη Μακροχωρίου – Κέντρο Μουσικής\, Αριστοτέλους 100\, Μακροχώρι\, ΗΜΑΘΙΑΣ\, 59033\, Greece
END:VEVENT
BEGIN:VEVENT
DTSTART;TZID=Europe/Athens:20260430T090000
DTEND;TZID=Europe/Athens:20260430T133000
DTSTAMP:20260421T141840
CREATED:20260406T073951Z
LAST-MODIFIED:20260406T073951Z
UID:8775-1777539600-1777555800@veriaculture.gr
SUMMARY:Ημερίδα για τον σχολικό εκφοβισμό
DESCRIPTION:ΔΗΜΟΣ ΒΕΡΟΙΑΣ – ΕΝΩΣΗ ΓΟΝΕΩΝ & ΚΗΔΕΜΟΝΩΝ ΔΗΜΟΥ ΒΕΡΟΙΑΣ\nΗμερίδα για τον σχολικό εκφοβισμό\nώρες 9.00π.μ. – 1.30μ.μ./ Χώρος Τεχνών – Θάνος Μικρούτσικος
URL:https://veriaculture.gr/event/%ce%b7%ce%bc%ce%b5%cf%81%ce%af%ce%b4%ce%b1-%ce%b3%ce%b9%ce%b1-%cf%84%ce%bf%ce%bd-%cf%83%cf%87%ce%bf%ce%bb%ce%b9%ce%ba%cf%8c-%ce%b5%ce%ba%cf%86%ce%bf%ce%b2%ce%b9%cf%83%ce%bc%cf%8c/
LOCATION:Χώρος Τεχνών – Θάνος Μικρούτσικος\, Μπιζανίου και Παύλου Μελά Γωνία\, Βέροια\, Ημαθίας\, 59132\, Greece
END:VEVENT
BEGIN:VEVENT
DTSTART;TZID=Europe/Athens:20260430T200000
DTEND;TZID=Europe/Athens:20260430T210000
DTSTAMP:20260421T141840
CREATED:20260406T074023Z
LAST-MODIFIED:20260416T083918Z
UID:8776-1777579200-1777582800@veriaculture.gr
SUMMARY:ΠΑΡΟΥΣΙΑΣΗ ΒΙΒΛΙΟΥ Εκδόσεις Ανάλεκτο Αλάτι χοντρό του Μιχάλη Τοπαλίδη
DESCRIPTION:ΠΑΡΟΥΣΙΑΣΗ ΒΙΒΛΙΟΥ\nΕκδόσεις Ανάλεκτο «Αλάτι χοντρό» του Μιχάλη Τοπαλίδη\nείσοδος ελεύθερη\nώρα 8.00μ.μ./ φουαγιέ Αντωνιάδειας Στέγης Γραμμάτων & Τεχνών \nΠαρουσιάζεται στη Στέγη\, το βιβλίο του Μιχάλη Τοπαλίδη\, «Αλάτι Χοντρό»
URL:https://veriaculture.gr/event/%cf%80%ce%b1%cf%81%ce%bf%cf%85%cf%83%ce%b9%ce%b1%cf%83%ce%b7-%ce%b2%ce%b9%ce%b2%ce%bb%ce%b9%ce%bf%cf%85-%ce%b5%ce%ba%ce%b4%cf%8c%cf%83%ce%b5%ce%b9%cf%82-%ce%b1%ce%bd%ce%ac%ce%bb%ce%b5%ce%ba%cf%84/
LOCATION:Φουαγιέ Αντωνιάδειο Στέγη Γραμμάτων και Τεχνών\, Αντωνίου Αντωνιάδη 19\, ΒΕΡΟΙΑ\, ΗΜΑΘΙΑΣ\, 59132\, Greece
END:VEVENT
END:VCALENDAR